BEGIN:VCALENDAR
VERSION:2.0
PRODID:-//Parents as Teachers Illinois State Office - ECPv6.13.2.1//NONSGML v1.0//EN
CALSCALE:GREGORIAN
METHOD:PUBLISH
X-ORIGINAL-URL:https://patillinois.org
X-WR-CALDESC:Events for Parents as Teachers Illinois State Office
REFRESH-INTERVAL;VALUE=DURATION:PT1H
X-Robots-Tag:noindex
X-PUBLISHED-TTL:PT1H
BEGIN:VTIMEZONE
TZID:America/New_York
BEGIN:DAYLIGHT
TZOFFSETFROM:-0500
TZOFFSETTO:-0400
TZNAME:EDT
DTSTART:20250309T070000
END:DAYLIGHT
BEGIN:STANDARD
TZOFFSETFROM:-0400
TZOFFSETTO:-0500
TZNAME:EST
DTSTART:20251102T060000
END:STANDARD
END:VTIMEZONE
BEGIN:VEVENT
DTSTART;TZID=America/New_York:20250924T093000
DTEND;TZID=America/New_York:20250924T113000
DTSTAMP:20260420T050628
CREATED:20250819T122813Z
LAST-MODIFIED:20250912T145542Z
UID:10000122-1758706200-1758713400@patillinois.org
SUMMARY:Using the Illinois Early Learning Guidelines to Support Visit Planning and Documentation
DESCRIPTION:The session will guide participants in effectively integrating the Illinois Early Learning Guidelines (IELG) into their home visit planning and documentation. Attendees will learn how to utilize the IELG to enhance Parent-Child Interactions and deepen Child Development Conversations\, ensuring that visits are aligned with developmental goals. The session will also introduce strategies for using the IELG to promote meaningful and rich interactions between parents and their children\, helping to foster stronger connections and developmental outcomes. By the end of the session\, participants will have practical tools for incorporating the IELG into their visit planning and documentation to better support families. \n\n\n\n\nRegister
URL:https://patillinois.org/event/using-the-illinois-early-guidelines-to-support-visit-planning-and-documentation-3/
CATEGORIES:Technical Assistance Opportunities
END:VEVENT
END:VCALENDAR